BEGIN:VCALENDAR
VERSION:2.0
PRODID:icalendar-ruby
CALSCALE:GREGORIAN
METHOD:PUBLISH
BEGIN:VEVENT
DTSTAMP:20260423T045117Z
UID:f6904921-2d86-4d33-82e2-1eee8ce1c3a3
DTSTART;VALUE=DATE:20200818
DTEND;VALUE=DATE:20200818
DESCRIPTION:Electric City BMX
LOCATION:1200 21st Ave So  Great Falls MT 59405 USA
SUMMARY:Standard Single Single
URL:/site/bmx_races/440752
END:VEVENT
END:VCALENDAR
