BEGIN:VCALENDAR
VERSION:2.0
PRODID:icalendar-ruby
CALSCALE:GREGORIAN
METHOD:PUBLISH
BEGIN:VEVENT
DTSTAMP:20260422T054239Z
UID:5ae494fc-81e1-48b6-abee-50ac2715d6f2
DTSTART;VALUE=DATE:20200905
DTEND;VALUE=DATE:20200905
DESCRIPTION:Mayes County BMX
LOCATION:526 Airport Rd At Hwy 69 S  Pryor OK 74363 USA
SUMMARY:Standard Single Single
URL:/site/bmx_races/440939
END:VEVENT
END:VCALENDAR
