BEGIN:VCALENDAR
VERSION:2.0
PRODID:icalendar-ruby
CALSCALE:GREGORIAN
METHOD:PUBLISH
BEGIN:VEVENT
DTSTAMP:20260419T153142Z
UID:c857a814-28ce-4e2d-acfc-ccb7ba7e4e66
DTSTART;VALUE=DATE:20200711
DTEND;VALUE=DATE:20200711
DESCRIPTION:Burdette Park BMX
LOCATION:5821 Nurrenbern Rd  Evansville IN 47712 USA
SUMMARY:Standard Single Single
URL:/site/bmx_races/441237
END:VEVENT
END:VCALENDAR
