BEGIN:VCALENDAR
VERSION:2.0
PRODID:icalendar-ruby
CALSCALE:GREGORIAN
METHOD:PUBLISH
BEGIN:VEVENT
DTSTAMP:20260424T100647Z
UID:78deab64-2064-4d9c-b8af-a829b24092f6
DTSTART;VALUE=DATE:20200603
DTEND;VALUE=DATE:20200603
DESCRIPTION:Mike Sedar BMX
LOCATION:789 College Dr  Casper WY 82601 USA
SUMMARY:Practice
URL:/site/bmx_races/441241
END:VEVENT
END:VCALENDAR
