BEGIN:VCALENDAR
VERSION:2.0
PRODID:icalendar-ruby
CALSCALE:GREGORIAN
METHOD:PUBLISH
BEGIN:VEVENT
DTSTAMP:20260424T212519Z
UID:2bdd0491-dcb0-49c0-9044-1bab4a86012c
DTSTART;VALUE=DATE:20201007
DTEND;VALUE=DATE:20201007
DESCRIPTION:Yuma BMX
LOCATION:3067 S Pacific Ave  Yuma AZ 85364 USA
SUMMARY:Standard Single Single
URL:/site/bmx_races/441621
END:VEVENT
END:VCALENDAR
