BEGIN:VCALENDAR
VERSION:2.0
PRODID:icalendar-ruby
CALSCALE:GREGORIAN
METHOD:PUBLISH
BEGIN:VEVENT
DTSTAMP:20260420T194323Z
UID:1a9f293a-82e5-46d4-b34e-18a92e311970
DTSTART;VALUE=DATE:20200623
DTEND;VALUE=DATE:20200623
DESCRIPTION:Rad Canyon BMX
LOCATION:5200 W 9800 S  West Jordan UT 84081 USA
SUMMARY:Practice
URL:/site/bmx_races/441773
END:VEVENT
END:VCALENDAR
