BEGIN:VCALENDAR
VERSION:2.0
PRODID:icalendar-ruby
CALSCALE:GREGORIAN
METHOD:PUBLISH
BEGIN:VEVENT
DTSTAMP:20260420T143708Z
UID:86589f2a-2abf-4132-8a04-030135ad0de3
DTSTART;VALUE=DATE:20200901
DTEND;VALUE=DATE:20200901
DESCRIPTION:Rad Canyon BMX
LOCATION:5200 W 9800 S  West Jordan UT 84081 USA
SUMMARY:Practice
URL:/site/bmx_races/441784
END:VEVENT
END:VCALENDAR
