BEGIN:VCALENDAR
VERSION:2.0
PRODID:icalendar-ruby
CALSCALE:GREGORIAN
METHOD:PUBLISH
BEGIN:VEVENT
DTSTAMP:20260423T040833Z
UID:5138e2f4-5bad-4169-a01a-353d40ae1da1
DTSTART;VALUE=DATE:20201002
DTEND;VALUE=DATE:20201002
DESCRIPTION:Fountain City BMX
LOCATION:David D. Whetstone Jr. Sports Complex     County Road 4 W Prattvil
 le AL 36066 USA
SUMMARY:Practice
URL:/site/bmx_races/441956
END:VEVENT
END:VCALENDAR
