BEGIN:VCALENDAR
VERSION:2.0
PRODID:icalendar-ruby
CALSCALE:GREGORIAN
METHOD:PUBLISH
BEGIN:VEVENT
DTSTAMP:20260422T064003Z
UID:0cdffe82-4844-497e-a2bc-7fcabeb2ef27
DTSTART;VALUE=DATE:20200830
DTEND;VALUE=DATE:20200830
DESCRIPTION:Blanchard Woods BMX
LOCATION:4600 Blanchard Woods Drive  Evans GA 30809 USA
SUMMARY:Non-Riding Event
URL:/site/bmx_races/442102
END:VEVENT
END:VCALENDAR
