BEGIN:VCALENDAR
VERSION:2.0
PRODID:icalendar-ruby
CALSCALE:GREGORIAN
METHOD:PUBLISH
BEGIN:VEVENT
DTSTAMP:20260424T072131Z
UID:fd5a87dc-9fc8-4863-b84b-9b142af4d50c
DTSTART;VALUE=DATE:20200710
DTEND;VALUE=DATE:20200710
DESCRIPTION:Okeeheelee BMX
LOCATION:8145 Forest Hill Blvd  West Palm Beach FL 33413 USA
SUMMARY:Standard Single Single
URL:/site/bmx_races/442887
END:VEVENT
END:VCALENDAR
