BEGIN:VCALENDAR
VERSION:2.0
PRODID:icalendar-ruby
CALSCALE:GREGORIAN
METHOD:PUBLISH
BEGIN:VEVENT
DTSTAMP:20260421T192929Z
UID:464975d9-aec2-4109-bcbb-372591575578
DTSTART;VALUE=DATE:20200818
DTEND;VALUE=DATE:20200818
DESCRIPTION:80/35 BMX
LOCATION:1701 E Mc Kinley Ave  Des Moines IA 50320 USA
SUMMARY:Local Race Single
URL:/site/bmx_races/442929
END:VEVENT
END:VCALENDAR
