BEGIN:VCALENDAR
VERSION:2.0
PRODID:icalendar-ruby
CALSCALE:GREGORIAN
METHOD:PUBLISH
BEGIN:VEVENT
DTSTAMP:20260421T174846Z
UID:69dec516-204f-4a48-972b-c0fd3575141f
DTSTART;VALUE=DATE:20200915
DTEND;VALUE=DATE:20200915
DESCRIPTION:80/35 BMX
LOCATION:1701 E Mc Kinley Ave  Des Moines IA 50320 USA
SUMMARY:Local Race Single
URL:/site/bmx_races/442933
END:VEVENT
END:VCALENDAR
