BEGIN:VCALENDAR
VERSION:2.0
PRODID:icalendar-ruby
CALSCALE:GREGORIAN
METHOD:PUBLISH
BEGIN:VEVENT
DTSTAMP:20260423T100015Z
UID:a97fe9af-4224-4ff5-a6ff-1029dd99878f
DTSTART;VALUE=DATE:20200825
DTEND;VALUE=DATE:20200825
DESCRIPTION:Hunterdon County BMX
LOCATION:314 Rt 12 North  Flemington NJ 08822 USA
SUMMARY:Standard Single Single
URL:/site/bmx_races/442944
END:VEVENT
END:VCALENDAR
