BEGIN:VCALENDAR
VERSION:2.0
PRODID:icalendar-ruby
CALSCALE:GREGORIAN
METHOD:PUBLISH
BEGIN:VEVENT
DTSTAMP:20260422T135756Z
UID:ae115087-7f76-4a25-96ce-1888ce4d9201
DTSTART;VALUE=DATE:20200629
DTEND;VALUE=DATE:20200629
DESCRIPTION:Abbotsford BMX
LOCATION:32470 Haida Drive  Abbotsford BC V2T5A6 CAN
SUMMARY:Practice
URL:/site/bmx_races/442975
END:VEVENT
END:VCALENDAR
