BEGIN:VCALENDAR
VERSION:2.0
PRODID:icalendar-ruby
CALSCALE:GREGORIAN
METHOD:PUBLISH
BEGIN:VEVENT
DTSTAMP:20260422T121611Z
UID:76d18a91-c09c-4eb1-8ef9-92ce67e2ab58
DTSTART;VALUE=DATE:20200706
DTEND;VALUE=DATE:20200706
DESCRIPTION:Abbotsford BMX
LOCATION:32470 Haida Drive  Abbotsford BC V2T5A6 CAN
SUMMARY:Practice
URL:/site/bmx_races/442976
END:VEVENT
END:VCALENDAR
