BEGIN:VCALENDAR
VERSION:2.0
PRODID:icalendar-ruby
CALSCALE:GREGORIAN
METHOD:PUBLISH
BEGIN:VEVENT
DTSTAMP:20260419T173023Z
UID:8f242ec5-5a69-4aaa-8c46-83994d367ca8
DTSTART;VALUE=DATE:20200630
DTEND;VALUE=DATE:20200630
DESCRIPTION:Oak Mountain BMX
LOCATION:Oak Mountain State Park  Pelham AL 35043 USA
SUMMARY:Standard Single Single
URL:/site/bmx_races/443117
END:VEVENT
END:VCALENDAR
