BEGIN:VCALENDAR
VERSION:2.0
PRODID:icalendar-ruby
CALSCALE:GREGORIAN
METHOD:PUBLISH
BEGIN:VEVENT
DTSTAMP:20260424T051725Z
UID:8528135d-498b-4795-b2d6-56e408d8edb6
DTSTART;VALUE=DATE:20200625
DTEND;VALUE=DATE:20200625
DESCRIPTION:First State BMX
LOCATION:1045 N Walnut St  Milford DE 19963 USA
SUMMARY:Practice
URL:/site/bmx_races/443330
END:VEVENT
END:VCALENDAR
