BEGIN:VCALENDAR
VERSION:2.0
PRODID:icalendar-ruby
CALSCALE:GREGORIAN
METHOD:PUBLISH
BEGIN:VEVENT
DTSTAMP:20260424T011424Z
UID:2d4066e4-a6ef-44e0-a733-092f28b0a849
DTSTART;VALUE=DATE:20200701
DTEND;VALUE=DATE:20200701
DESCRIPTION:Twin Silo BMX
LOCATION:5400 Ziegler Rd.   Ft Collins CO 80528 USA
SUMMARY:Track Rental
URL:/site/bmx_races/443486
END:VEVENT
END:VCALENDAR
