BEGIN:VCALENDAR
VERSION:2.0
PRODID:icalendar-ruby
CALSCALE:GREGORIAN
METHOD:PUBLISH
BEGIN:VEVENT
DTSTAMP:20260424T043101Z
UID:e1630ee0-114a-45dd-bdb0-ac37162b242f
DTSTART;VALUE=DATE:20200718
DTEND;VALUE=DATE:20200718
DESCRIPTION:North Shore BMX
LOCATION:1301 Lillooet Road  North Vancouver BC V7J 3T7 CAN
SUMMARY:Practice
URL:/site/bmx_races/443534
END:VEVENT
END:VCALENDAR
