BEGIN:VCALENDAR
VERSION:2.0
PRODID:icalendar-ruby
CALSCALE:GREGORIAN
METHOD:PUBLISH
BEGIN:VEVENT
DTSTAMP:20260421T160631Z
UID:3749a0a0-6729-4a83-9aef-5a6ea6fb8fdc
DTSTART;VALUE=DATE:20200801
DTEND;VALUE=DATE:20200801
DESCRIPTION:Grand Valley BMX
LOCATION:2785 U.S. Highway 50  Grand Junction CO 81503 USA
SUMMARY:Open House
URL:/site/bmx_races/443753
END:VEVENT
END:VCALENDAR
