BEGIN:VCALENDAR
VERSION:2.0
PRODID:icalendar-ruby
CALSCALE:GREGORIAN
METHOD:PUBLISH
BEGIN:VEVENT
DTSTAMP:20260423T065458Z
UID:a15abc13-bcc6-44ff-bbfb-6fc90d10eee4
DTSTART;VALUE=DATE:20200819
DTEND;VALUE=DATE:20200819
DESCRIPTION:Stouffville BMX
LOCATION:3291 Stouffville Rd  Whitchurch-Stouffville ON L4A7X5 CAN
SUMMARY:Standard Single Single
URL:/site/bmx_races/444019
END:VEVENT
END:VCALENDAR
