BEGIN:VCALENDAR
VERSION:2.0
PRODID:icalendar-ruby
CALSCALE:GREGORIAN
METHOD:PUBLISH
BEGIN:VEVENT
DTSTAMP:20260424T060631Z
UID:bcf5312b-fb42-47aa-8aad-5b3b2be427db
DTSTART;VALUE=DATE:20200704
DTEND;VALUE=DATE:20200704
DESCRIPTION:Dacono BMX
LOCATION:113 Forest Ave  Dacono CO 80514 USA
SUMMARY:Standard Single Single
URL:/site/bmx_races/444057
END:VEVENT
END:VCALENDAR
