BEGIN:VCALENDAR
VERSION:2.0
PRODID:icalendar-ruby
CALSCALE:GREGORIAN
METHOD:PUBLISH
BEGIN:VEVENT
DTSTAMP:20260424T040625Z
UID:ad4b2112-9520-46d8-b31b-3d52848a1ad5
DTSTART;VALUE=DATE:20200718
DTEND;VALUE=DATE:20200718
DESCRIPTION:Wolfe Creek BMX
LOCATION:22843 Creek Road  Chatham ON  CAN
SUMMARY:Standard Single Single
URL:/site/bmx_races/444323
END:VEVENT
END:VCALENDAR
