BEGIN:VCALENDAR
VERSION:2.0
PRODID:icalendar-ruby
CALSCALE:GREGORIAN
METHOD:PUBLISH
BEGIN:VEVENT
DTSTAMP:20260423T043720Z
UID:373f536f-cbbf-4fee-b21c-5903e58bde7e
DTSTART;VALUE=DATE:20200804
DTEND;VALUE=DATE:20200804
DESCRIPTION:Okeeheelee BMX
LOCATION:8145 Forest Hill Blvd  West Palm Beach FL 33413 USA
SUMMARY:Standard Single Single
URL:/site/bmx_races/444654
END:VEVENT
END:VCALENDAR
