BEGIN:VCALENDAR
VERSION:2.0
PRODID:icalendar-ruby
CALSCALE:GREGORIAN
METHOD:PUBLISH
BEGIN:VEVENT
DTSTAMP:20260419T190444Z
UID:c9fb4403-06df-43d7-8d6e-3efa82506d7a
DTSTART;VALUE=DATE:20200717
DTEND;VALUE=DATE:20200717
DESCRIPTION:Can Am BMX
LOCATION:8345 County Park Rd  Goodells MI 48027 USA
SUMMARY:Standard Single Single
URL:/site/bmx_races/444674
END:VEVENT
END:VCALENDAR
