BEGIN:VCALENDAR
VERSION:2.0
PRODID:icalendar-ruby
CALSCALE:GREGORIAN
METHOD:PUBLISH
BEGIN:VEVENT
DTSTAMP:20260420T211059Z
UID:2079827d-dac1-4dde-ae9c-c9a152b5abde
DTSTART;VALUE=DATE:20200802
DTEND;VALUE=DATE:20200802
DESCRIPTION:County Line BMX
LOCATION:8560 South Colorado Blvd  Centennial CO 80126 USA
SUMMARY:Standard Single Single
URL:/site/bmx_races/445170
END:VEVENT
END:VCALENDAR
