BEGIN:VCALENDAR
VERSION:2.0
PRODID:icalendar-ruby
CALSCALE:GREGORIAN
METHOD:PUBLISH
BEGIN:VEVENT
DTSTAMP:20260423T040838Z
UID:86b5ac4d-197e-49af-bbd1-d1407be5996a
DTSTART;VALUE=DATE:20200921
DTEND;VALUE=DATE:20200921
DESCRIPTION:Pineview Park BMX
LOCATION:6540 Saukview Dr  St. Cloud MN 56303 USA
SUMMARY:Standard Single Single
URL:/site/bmx_races/445189
END:VEVENT
END:VCALENDAR
