BEGIN:VCALENDAR
VERSION:2.0
PRODID:icalendar-ruby
CALSCALE:GREGORIAN
METHOD:PUBLISH
BEGIN:VEVENT
DTSTAMP:20260423T224222Z
UID:67e87f60-a2e2-4d6b-8160-8400b72f6737
DTSTART;VALUE=DATE:20200826
DTEND;VALUE=DATE:20200826
DESCRIPTION:Emery Park BMX
LOCATION:2339 E Mac Arthur Rd  Wichita KS 67216 USA
SUMMARY:Standard Single Single
URL:/site/bmx_races/445197
END:VEVENT
END:VCALENDAR
