BEGIN:VCALENDAR
VERSION:2.0
PRODID:icalendar-ruby
CALSCALE:GREGORIAN
METHOD:PUBLISH
BEGIN:VEVENT
DTSTAMP:20260424T024740Z
UID:8864f700-3d4f-4ac7-ac4d-72251ebb8b0f
DTSTART;VALUE=DATE:20200822
DTEND;VALUE=DATE:20200822
DESCRIPTION:Falls BMX Park
LOCATION:7553 Beechwood Rd  Niagara Falls ON L2E6S5 CAN
SUMMARY:Standard Single Single
URL:/site/bmx_races/445276
END:VEVENT
END:VCALENDAR
