BEGIN:VCALENDAR
VERSION:2.0
PRODID:icalendar-ruby
CALSCALE:GREGORIAN
METHOD:PUBLISH
BEGIN:VEVENT
DTSTAMP:20260422T023414Z
UID:83c4bd23-ff66-4d19-9339-44d7b35b1ed6
DTSTART;VALUE=DATE:20201117
DTEND;VALUE=DATE:20201117
DESCRIPTION:Blanchard Woods BMX
LOCATION:4600 Blanchard Woods Drive  Evans GA 30809 USA
SUMMARY:Practice
URL:/site/bmx_races/445287
END:VEVENT
END:VCALENDAR
