BEGIN:VCALENDAR
VERSION:2.0
PRODID:icalendar-ruby
CALSCALE:GREGORIAN
METHOD:PUBLISH
BEGIN:VEVENT
DTSTAMP:20260423T220335Z
UID:a47ef67c-0cb2-4e1b-859c-ccabc9cb195d
DTSTART;VALUE=DATE:20201024
DTEND;VALUE=DATE:20201024
DESCRIPTION:Kettering BMX
LOCATION:1700 Delco Park Dr  Kettering OH 45429 USA
SUMMARY:Standard Double Double
URL:/site/bmx_races/445647
END:VEVENT
END:VCALENDAR
