BEGIN:VCALENDAR
VERSION:2.0
PRODID:icalendar-ruby
CALSCALE:GREGORIAN
METHOD:PUBLISH
BEGIN:VEVENT
DTSTAMP:20260424T082635Z
UID:4752ba1a-2d43-4569-a777-6749f930e0e6
DTSTART;VALUE=DATE:20210128
DTEND;VALUE=DATE:20210128
DESCRIPTION:Tucson BMX
LOCATION:9245 E Irvington  Tucson AZ 85730 USA
SUMMARY:Practice
URL:/site/bmx_races/445701
END:VEVENT
END:VCALENDAR
