BEGIN:VCALENDAR
VERSION:2.0
PRODID:icalendar-ruby
CALSCALE:GREGORIAN
METHOD:PUBLISH
BEGIN:VEVENT
DTSTAMP:20260424T082952Z
UID:5938d64a-6b7c-4101-a00d-a5890eca08fe
DTSTART;VALUE=DATE:20210129
DTEND;VALUE=DATE:20210129
DESCRIPTION:Tucson BMX
LOCATION:9245 E Irvington  Tucson AZ 85730 USA
SUMMARY:Local Race Single
URL:/site/bmx_races/445702
END:VEVENT
END:VCALENDAR
