BEGIN:VCALENDAR
VERSION:2.0
PRODID:icalendar-ruby
CALSCALE:GREGORIAN
METHOD:PUBLISH
BEGIN:VEVENT
DTSTAMP:20260424T052522Z
UID:37c5d2cf-3855-4f1a-846e-17927ab64407
DTSTART;VALUE=DATE:20210204
DTEND;VALUE=DATE:20210204
DESCRIPTION:Tucson BMX
LOCATION:9245 E Irvington  Tucson AZ 85730 USA
SUMMARY:Practice
URL:/site/bmx_races/445703
END:VEVENT
END:VCALENDAR
