BEGIN:VCALENDAR
VERSION:2.0
PRODID:icalendar-ruby
CALSCALE:GREGORIAN
METHOD:PUBLISH
BEGIN:VEVENT
DTSTAMP:20260423T232756Z
UID:5ddfbd1b-604e-4226-b5d7-67c0d336a18a
DTSTART;VALUE=DATE:20210729
DTEND;VALUE=DATE:20210729
DESCRIPTION:Tucson BMX
LOCATION:9245 E Irvington  Tucson AZ 85730 USA
SUMMARY:Practice
URL:/site/bmx_races/445753
END:VEVENT
END:VCALENDAR
