BEGIN:VCALENDAR
VERSION:2.0
PRODID:icalendar-ruby
CALSCALE:GREGORIAN
METHOD:PUBLISH
BEGIN:VEVENT
DTSTAMP:20260423T190846Z
UID:cf0e845b-bfc3-421c-8841-b3a262a0f455
DTSTART;VALUE=DATE:20210902
DTEND;VALUE=DATE:20210902
DESCRIPTION:Tucson BMX
LOCATION:9245 E Irvington  Tucson AZ 85730 USA
SUMMARY:Practice
URL:/site/bmx_races/445763
END:VEVENT
END:VCALENDAR
