BEGIN:VCALENDAR
VERSION:2.0
PRODID:icalendar-ruby
CALSCALE:GREGORIAN
METHOD:PUBLISH
BEGIN:VEVENT
DTSTAMP:20260423T190844Z
UID:a1b3c112-56e0-42b1-be9a-abac8cab22f8
DTSTART;VALUE=DATE:20211028
DTEND;VALUE=DATE:20211028
DESCRIPTION:Tucson BMX
LOCATION:9245 E Irvington  Tucson AZ 85730 USA
SUMMARY:Practice
URL:/site/bmx_races/445779
END:VEVENT
END:VCALENDAR
