BEGIN:VCALENDAR
VERSION:2.0
PRODID:icalendar-ruby
CALSCALE:GREGORIAN
METHOD:PUBLISH
BEGIN:VEVENT
DTSTAMP:20260419T170646Z
UID:1b38d8db-51f9-4c43-b71e-ee9019a1e5fd
DTSTART;VALUE=DATE:20201002
DTEND;VALUE=DATE:20201002
DESCRIPTION:Charlotte BMX
LOCATION:2505 Carmalita St  Punta Gorda FL 33950 USA
SUMMARY:Standard Single Single
URL:/site/bmx_races/445864
END:VEVENT
END:VCALENDAR
