BEGIN:VCALENDAR
VERSION:2.0
PRODID:icalendar-ruby
CALSCALE:GREGORIAN
METHOD:PUBLISH
BEGIN:VEVENT
DTSTAMP:20260424T072305Z
UID:5d01741e-40d8-4f63-bf63-1172fff23175
DTSTART;VALUE=DATE:20200831
DTEND;VALUE=DATE:20200831
DESCRIPTION:Stouffville BMX
LOCATION:3291 Stouffville Rd  Whitchurch-Stouffville ON L4A7X5 CAN
SUMMARY:Practice
URL:/site/bmx_races/446120
END:VEVENT
END:VCALENDAR
