BEGIN:VCALENDAR
VERSION:2.0
PRODID:icalendar-ruby
CALSCALE:GREGORIAN
METHOD:PUBLISH
BEGIN:VEVENT
DTSTAMP:20260423T010353Z
UID:ee0e6caa-3e82-476d-aee0-4ea302830181
DTSTART;VALUE=DATE:20200915
DTEND;VALUE=DATE:20200915
DESCRIPTION:Buffalo Creek BMX
LOCATION:1017 9th Street  Glencoe MN 55336 USA
SUMMARY:Standard Single Single
URL:/site/bmx_races/446137
END:VEVENT
END:VCALENDAR
