BEGIN:VCALENDAR
VERSION:2.0
PRODID:icalendar-ruby
CALSCALE:GREGORIAN
METHOD:PUBLISH
BEGIN:VEVENT
DTSTAMP:20260423T065456Z
UID:cdc3b1cf-3307-4a0c-8988-8dc7eb0d6185
DTSTART;VALUE=DATE:20200922
DTEND;VALUE=DATE:20200922
DESCRIPTION:Chehalem Valley BMX
LOCATION:1201 Blaine St  Newberg OR 97132 USA
SUMMARY:Standard Single Single
URL:/site/bmx_races/446310
END:VEVENT
END:VCALENDAR
