BEGIN:VCALENDAR
VERSION:2.0
PRODID:icalendar-ruby
CALSCALE:GREGORIAN
METHOD:PUBLISH
BEGIN:VEVENT
DTSTAMP:20260423T085621Z
UID:4c87e5e8-4558-44cb-9730-7e786e7d100a
DTSTART;VALUE=DATE:20200830
DTEND;VALUE=DATE:20200830
DESCRIPTION:Grand Prix BMX at SoCal Fair
LOCATION:18700 Lake Perris Dr  Perris CA 92571 USA
SUMMARY:Standard Single Single
URL:/site/bmx_races/446361
END:VEVENT
END:VCALENDAR
