BEGIN:VCALENDAR
VERSION:2.0
PRODID:icalendar-ruby
CALSCALE:GREGORIAN
METHOD:PUBLISH
BEGIN:VEVENT
DTSTAMP:20260424T052916Z
UID:02a4fc20-c870-43b8-af06-8307127c7f73
DTSTART;VALUE=DATE:20200928
DTEND;VALUE=DATE:20200928
DESCRIPTION:Stouffville BMX
LOCATION:3291 Stouffville Rd  Whitchurch-Stouffville ON L4A7X5 CAN
SUMMARY:Practice
URL:/site/bmx_races/446469
END:VEVENT
END:VCALENDAR
