BEGIN:VCALENDAR
VERSION:2.0
PRODID:icalendar-ruby
CALSCALE:GREGORIAN
METHOD:PUBLISH
BEGIN:VEVENT
DTSTAMP:20260423T070109Z
UID:50d830d7-95bd-4c28-a65d-acd15ff1dd39
DTSTART;VALUE=DATE:20200902
DTEND;VALUE=DATE:20200902
DESCRIPTION:Grand Prix BMX at SoCal Fair
LOCATION:18700 Lake Perris Dr  Perris CA 92571 USA
SUMMARY:Standard Single Single
URL:/site/bmx_races/446540
END:VEVENT
END:VCALENDAR
