BEGIN:VCALENDAR
VERSION:2.0
PRODID:icalendar-ruby
CALSCALE:GREGORIAN
METHOD:PUBLISH
BEGIN:VEVENT
DTSTAMP:20260419T155500Z
UID:232c21e2-fd4a-402d-b190-b09fd20a073d
DTSTART;VALUE=DATE:20201010
DTEND;VALUE=DATE:20201010
DESCRIPTION:Cape Coral BMX
LOCATION:1410 Sw 6th Place  Cape Coral FL 33991 USA
SUMMARY:Standard Single Single
URL:/site/bmx_races/447217
END:VEVENT
END:VCALENDAR
