BEGIN:VCALENDAR
VERSION:2.0
PRODID:icalendar-ruby
CALSCALE:GREGORIAN
METHOD:PUBLISH
BEGIN:VEVENT
DTSTAMP:20260421T080252Z
UID:2ea9451b-2e62-476b-8008-edaee6c40c01
DTSTART;VALUE=DATE:20201205
DTEND;VALUE=DATE:20201205
DESCRIPTION:Yukon BMX
LOCATION:Taylor Park Sports Complex   410 N 11th St Yukon OK 73064 USA
SUMMARY:Standard Single Single
URL:/site/bmx_races/447338
END:VEVENT
END:VCALENDAR
