BEGIN:VCALENDAR
VERSION:2.0
PRODID:icalendar-ruby
CALSCALE:GREGORIAN
METHOD:PUBLISH
BEGIN:VEVENT
DTSTAMP:20260422T054044Z
UID:32daa417-bd17-49ac-b61d-eb9dcfb9571e
DTSTART;VALUE=DATE:20201027
DTEND;VALUE=DATE:20201027
DESCRIPTION:Caldwell BMX
LOCATION:4700 Skyway St  Caldwell ID 83605 USA
SUMMARY:Practice
URL:/site/bmx_races/447664
END:VEVENT
END:VCALENDAR
