BEGIN:VCALENDAR
VERSION:2.0
PRODID:icalendar-ruby
CALSCALE:GREGORIAN
METHOD:PUBLISH
BEGIN:VEVENT
DTSTAMP:20260426T025318Z
UID:86bc2ec8-3afc-41bf-b0cf-78a453ec35da
DTSTART;VALUE=DATE:20200928
DTEND;VALUE=DATE:20200928
DESCRIPTION:White Pine BMX
LOCATION:913 E 16th St  Ely NV 89301 USA
SUMMARY:Standard Single Single
URL:/site/bmx_races/447751
END:VEVENT
END:VCALENDAR
