BEGIN:VCALENDAR
VERSION:2.0
PRODID:icalendar-ruby
CALSCALE:GREGORIAN
METHOD:PUBLISH
BEGIN:VEVENT
DTSTAMP:20260423T183748Z
UID:30b5cfaa-809b-49e0-a180-33e39ccdb254
DTSTART;VALUE=DATE:20200925
DTEND;VALUE=DATE:20200925
DESCRIPTION:Can Am BMX
LOCATION:8345 County Park Rd  Goodells MI 48027 USA
SUMMARY:Standard Single Single
URL:/site/bmx_races/447809
END:VEVENT
END:VCALENDAR
