BEGIN:VCALENDAR
VERSION:2.0
PRODID:icalendar-ruby
CALSCALE:GREGORIAN
METHOD:PUBLISH
BEGIN:VEVENT
DTSTAMP:20260421T073151Z
UID:c407f44c-d9f2-423e-b903-163bd58515c4
DTSTART;VALUE=DATE:20210716
DTEND;VALUE=DATE:20210716
DESCRIPTION:Imagination Glen BMX
LOCATION:2190 N State Rd 149  Portage IN 46304 USA
SUMMARY:Practice
URL:/site/bmx_races/448299
END:VEVENT
END:VCALENDAR
